BEGIN:VCALENDAR
VERSION:2.0
PRODID:icalendar-ruby
CALSCALE:GREGORIAN
METHOD:PUBLISH
BEGIN:VEVENT
DTSTAMP:20260425T112212Z
UID:8-442443@franklinwvumc.org
DTSTART:20261025T150000Z
DTEND:20261025T160000Z
CLASS:PUBLIC
CREATED:20260424T223335
DESCRIPTION:
LAST-MODIFIED:20260424T223335
LOCATION:
SUMMARY:Worship Service
URL;VALUE=URI:https://www.franklinwvumc.org/events/worship-service--8/2026-
 10-25
ATTACH;FILENAME=Church 2020.jpg;FMTTYPE=image/jpeg:https://dq5pwpg1q8ru0.cl
 oudfront.net/2025/01/12/21/13/33/22b9d110-a6e6-450b-bf5a-034aa73fd22c/Chur
 ch%202020.jpg
END:VEVENT
END:VCALENDAR
